BEGIN:VCALENDAR
VERSION:2.0
PRODID:-//wp-events-plugin.com//7.2.3.1//EN
TZID:Europe/Budapest
X-WR-TIMEZONE:Europe/Budapest
BEGIN:VEVENT
UID:380@lonyayrefi.hu
DTSTART;TZID=Europe/Budapest;VALUE=DATE:20210129
DTEND;TZID=Europe/Budapest;VALUE=DATE:20210130
DTSTAMP:20210108T112946Z
URL:https://www.lonyayrefi.hu/events/felevi-ertesitok-kikuldesenek-hatarid
 eje/
SUMMARY:Félévi értesítők kiküldésének határideje
DESCRIPTION:
END:VEVENT
BEGIN:VTIMEZONE
TZID:Europe/Budapest
X-LIC-LOCATION:Europe/Budapest
BEGIN:STANDARD
DTSTART:20201025T020000
TZOFFSETFROM:+0200
TZOFFSETTO:+0100
TZNAME:CET
END:STANDARD
END:VTIMEZONE
END:VCALENDAR