BEGIN:VCALENDAR
VERSION:2.0
PRODID:-//wp-events-plugin.com//7.2.3.1//EN
TZID:Europe/Budapest
X-WR-TIMEZONE:Europe/Budapest
BEGIN:VEVENT
UID:390@lonyayrefi.hu
DTSTART;TZID=Europe/Budapest;VALUE=DATE:20210227
DTEND;TZID=Europe/Budapest;VALUE=DATE:20210228
DTSTAMP:20210219T132757Z
URL:https://www.lonyayrefi.hu/events/bolyai-matematika-verseny-orszagos-do
 nto-9-12-evf/
SUMMARY:Bolyai Matematika Verseny Országos Döntő 9-12.évf.
DESCRIPTION:
END:VEVENT
BEGIN:VTIMEZONE
TZID:Europe/Budapest
X-LIC-LOCATION:Europe/Budapest
BEGIN:STANDARD
DTSTART:20201025T020000
TZOFFSETFROM:+0200
TZOFFSETTO:+0100
TZNAME:CET
END:STANDARD
END:VTIMEZONE
END:VCALENDAR