BEGIN:VCALENDAR
VERSION:2.0
PRODID:-//wp-events-plugin.com//7.2.3.1//EN
TZID:Europe/Budapest
X-WR-TIMEZONE:Europe/Budapest
BEGIN:VEVENT
UID:239@lonyayrefi.hu
DTSTART;TZID=Europe/Budapest:20191122T150000
DTEND;TZID=Europe/Budapest:20191122T150000
DTSTAMP:20191108T141138Z
URL:https://www.lonyayrefi.hu/events/bolyai-anyanyelvi-verseny-3-8-evfolya
 m-dijkiosztoja/
SUMMARY:Bolyai Anyanyelvi verseny 3-8. évfolyam díjkiosztója
DESCRIPTION:
END:VEVENT
BEGIN:VTIMEZONE
TZID:Europe/Budapest
X-LIC-LOCATION:Europe/Budapest
BEGIN:STANDARD
DTSTART:20191027T020000
TZOFFSETFROM:+0200
TZOFFSETTO:+0100
TZNAME:CET
END:STANDARD
END:VTIMEZONE
END:VCALENDAR